BEGIN:VCALENDAR
VERSION:2.0
PRODID:-//New Mt Moriah Missionary Baptist Church - ECPv6.15.20//NONSGML v1.0//EN
CALSCALE:GREGORIAN
METHOD:PUBLISH
X-ORIGINAL-URL:https://newmtmoriahmbc.org
X-WR-CALDESC:Events for New Mt Moriah Missionary Baptist Church
REFRESH-INTERVAL;VALUE=DURATION:PT1H
X-Robots-Tag:noindex
X-PUBLISHED-TTL:PT1H
BEGIN:VTIMEZONE
TZID:America/Chicago
BEGIN:DAYLIGHT
TZOFFSETFROM:-0600
TZOFFSETTO:-0500
TZNAME:CDT
DTSTART:20210314T080000
END:DAYLIGHT
BEGIN:STANDARD
TZOFFSETFROM:-0500
TZOFFSETTO:-0600
TZNAME:CST
DTSTART:20211107T070000
END:STANDARD
BEGIN:DAYLIGHT
TZOFFSETFROM:-0600
TZOFFSETTO:-0500
TZNAME:CDT
DTSTART:20220313T080000
END:DAYLIGHT
BEGIN:STANDARD
TZOFFSETFROM:-0500
TZOFFSETTO:-0600
TZNAME:CST
DTSTART:20221106T070000
END:STANDARD
BEGIN:DAYLIGHT
TZOFFSETFROM:-0600
TZOFFSETTO:-0500
TZNAME:CDT
DTSTART:20230312T080000
END:DAYLIGHT
BEGIN:STANDARD
TZOFFSETFROM:-0500
TZOFFSETTO:-0600
TZNAME:CST
DTSTART:20231105T070000
END:STANDARD
END:VTIMEZONE
BEGIN:VEVENT
DTSTART;TZID=America/Chicago:20220102T103000
DTEND;TZID=America/Chicago:20220102T103000
DTSTAMP:20260423T171011
CREATED:20210908T020751Z
LAST-MODIFIED:20210908T022300Z
UID:3799-1641119400-1641119400@newmtmoriahmbc.org
SUMMARY:Worship Service
DESCRIPTION:
URL:https://newmtmoriahmbc.org/event/worship-service-71/
LOCATION:New Mt Moriah MBC\, 5798 Anglewood Lane\, Calera\, AL\, 35040\, United States
CATEGORIES:Sunday
ORGANIZER;CN="New Mt Moriah MBC":MAILTO:info@newmtmoriahmbc.org
END:VEVENT
BEGIN:VEVENT
DTSTART;TZID=America/Chicago:20220109T103000
DTEND;TZID=America/Chicago:20220109T103000
DTSTAMP:20260423T171011
CREATED:20210908T020751Z
LAST-MODIFIED:20210908T022300Z
UID:3800-1641724200-1641724200@newmtmoriahmbc.org
SUMMARY:Worship Service
DESCRIPTION:
URL:https://newmtmoriahmbc.org/event/worship-service-72/
LOCATION:New Mt Moriah MBC\, 5798 Anglewood Lane\, Calera\, AL\, 35040\, United States
CATEGORIES:Sunday
ORGANIZER;CN="New Mt Moriah MBC":MAILTO:info@newmtmoriahmbc.org
END:VEVENT
BEGIN:VEVENT
DTSTART;TZID=America/Chicago:20220116T103000
DTEND;TZID=America/Chicago:20220116T103000
DTSTAMP:20260423T171011
CREATED:20210908T020751Z
LAST-MODIFIED:20210908T022300Z
UID:3801-1642329000-1642329000@newmtmoriahmbc.org
SUMMARY:Worship Service
DESCRIPTION:
URL:https://newmtmoriahmbc.org/event/worship-service-73/
LOCATION:New Mt Moriah MBC\, 5798 Anglewood Lane\, Calera\, AL\, 35040\, United States
CATEGORIES:Sunday
ORGANIZER;CN="New Mt Moriah MBC":MAILTO:info@newmtmoriahmbc.org
END:VEVENT
BEGIN:VEVENT
DTSTART;TZID=America/Chicago:20220123T103000
DTEND;TZID=America/Chicago:20220123T103000
DTSTAMP:20260423T171011
CREATED:20210908T020751Z
LAST-MODIFIED:20210908T022500Z
UID:3802-1642933800-1642933800@newmtmoriahmbc.org
SUMMARY:Worship Service
DESCRIPTION:
URL:https://newmtmoriahmbc.org/event/worship-service-74/
LOCATION:New Mt Moriah MBC\, 5798 Anglewood Lane\, Calera\, AL\, 35040\, United States
CATEGORIES:Sunday
ORGANIZER;CN="New Mt Moriah MBC":MAILTO:info@newmtmoriahmbc.org
END:VEVENT
BEGIN:VEVENT
DTSTART;TZID=America/Chicago:20220130T103000
DTEND;TZID=America/Chicago:20220130T103000
DTSTAMP:20260423T171011
CREATED:20210908T020806Z
LAST-MODIFIED:20210908T022500Z
UID:3803-1643538600-1643538600@newmtmoriahmbc.org
SUMMARY:Worship Service
DESCRIPTION:
URL:https://newmtmoriahmbc.org/event/worship-service-75/
LOCATION:New Mt Moriah MBC\, 5798 Anglewood Lane\, Calera\, AL\, 35040\, United States
CATEGORIES:Sunday
ORGANIZER;CN="New Mt Moriah MBC":MAILTO:info@newmtmoriahmbc.org
END:VEVENT
END:VCALENDAR