BEGIN:VCALENDAR
VERSION:2.0
PRODID:-//New Mt Moriah Missionary Baptist Church - ECPv6.15.20//NONSGML v1.0//EN
CALSCALE:GREGORIAN
METHOD:PUBLISH
X-ORIGINAL-URL:https://newmtmoriahmbc.org
X-WR-CALDESC:Events for New Mt Moriah Missionary Baptist Church
REFRESH-INTERVAL;VALUE=DURATION:PT1H
X-Robots-Tag:noindex
X-PUBLISHED-TTL:PT1H
BEGIN:VTIMEZONE
TZID:America/Chicago
BEGIN:DAYLIGHT
TZOFFSETFROM:-0600
TZOFFSETTO:-0500
TZNAME:CDT
DTSTART:20250309T080000
END:DAYLIGHT
BEGIN:STANDARD
TZOFFSETFROM:-0500
TZOFFSETTO:-0600
TZNAME:CST
DTSTART:20251102T070000
END:STANDARD
BEGIN:DAYLIGHT
TZOFFSETFROM:-0600
TZOFFSETTO:-0500
TZNAME:CDT
DTSTART:20260308T080000
END:DAYLIGHT
BEGIN:STANDARD
TZOFFSETFROM:-0500
TZOFFSETTO:-0600
TZNAME:CST
DTSTART:20261101T070000
END:STANDARD
BEGIN:DAYLIGHT
TZOFFSETFROM:-0600
TZOFFSETTO:-0500
TZNAME:CDT
DTSTART:20270314T080000
END:DAYLIGHT
BEGIN:STANDARD
TZOFFSETFROM:-0500
TZOFFSETTO:-0600
TZNAME:CST
DTSTART:20271107T070000
END:STANDARD
END:VTIMEZONE
BEGIN:VEVENT
DTSTART;TZID=America/Chicago:20260503T103000
DTEND;TZID=America/Chicago:20260503T103000
DTSTAMP:20260424T032358
CREATED:20250207T015615Z
LAST-MODIFIED:20250207T015615Z
UID:5682-1777804200-1777804200@newmtmoriahmbc.org
SUMMARY:Worship Service
DESCRIPTION:
URL:https://newmtmoriahmbc.org/event/worship-service-292/
LOCATION:New Mt Moriah MBC\, 5798 Anglewood Lane\, Calera\, AL\, 35040\, United States
CATEGORIES:Sunday
ORGANIZER;CN="New Mt Moriah MBC":MAILTO:info@newmtmoriahmbc.org
END:VEVENT
BEGIN:VEVENT
DTSTART;TZID=America/Chicago:20260506T180000
DTEND;TZID=America/Chicago:20260506T180000
DTSTAMP:20260424T032358
CREATED:20250207T030249Z
LAST-MODIFIED:20250207T030249Z
UID:5867-1778090400-1778090400@newmtmoriahmbc.org
SUMMARY:Bible Study
DESCRIPTION:
URL:https://newmtmoriahmbc.org/event/bible-study-69/
LOCATION:New Mt Moriah MBC\, 5798 Anglewood Lane\, Calera\, AL\, 35040\, United States
ORGANIZER;CN="New Mt Moriah MBC":MAILTO:info@newmtmoriahmbc.org
END:VEVENT
BEGIN:VEVENT
DTSTART;TZID=America/Chicago:20260510T103000
DTEND;TZID=America/Chicago:20260510T103000
DTSTAMP:20260424T032358
CREATED:20250207T015815Z
LAST-MODIFIED:20250207T015815Z
UID:5683-1778409000-1778409000@newmtmoriahmbc.org
SUMMARY:Worship Service
DESCRIPTION:
URL:https://newmtmoriahmbc.org/event/worship-service-293/
LOCATION:New Mt Moriah MBC\, 5798 Anglewood Lane\, Calera\, AL\, 35040\, United States
CATEGORIES:Sunday
ORGANIZER;CN="New Mt Moriah MBC":MAILTO:info@newmtmoriahmbc.org
END:VEVENT
BEGIN:VEVENT
DTSTART;TZID=America/Chicago:20260513T180000
DTEND;TZID=America/Chicago:20260513T180000
DTSTAMP:20260424T032358
CREATED:20250207T030251Z
LAST-MODIFIED:20250207T030251Z
UID:5868-1778695200-1778695200@newmtmoriahmbc.org
SUMMARY:Bible Study
DESCRIPTION:
URL:https://newmtmoriahmbc.org/event/bible-study-70/
LOCATION:New Mt Moriah MBC\, 5798 Anglewood Lane\, Calera\, AL\, 35040\, United States
ORGANIZER;CN="New Mt Moriah MBC":MAILTO:info@newmtmoriahmbc.org
END:VEVENT
BEGIN:VEVENT
DTSTART;TZID=America/Chicago:20260517T103000
DTEND;TZID=America/Chicago:20260517T103000
DTSTAMP:20260424T032358
CREATED:20250207T015815Z
LAST-MODIFIED:20250207T015815Z
UID:5684-1779013800-1779013800@newmtmoriahmbc.org
SUMMARY:Worship Service
DESCRIPTION:
URL:https://newmtmoriahmbc.org/event/worship-service-294/
LOCATION:New Mt Moriah MBC\, 5798 Anglewood Lane\, Calera\, AL\, 35040\, United States
CATEGORIES:Sunday
ORGANIZER;CN="New Mt Moriah MBC":MAILTO:info@newmtmoriahmbc.org
END:VEVENT
BEGIN:VEVENT
DTSTART;TZID=America/Chicago:20260520T180000
DTEND;TZID=America/Chicago:20260520T180000
DTSTAMP:20260424T032358
CREATED:20250207T030301Z
LAST-MODIFIED:20250207T030301Z
UID:5869-1779300000-1779300000@newmtmoriahmbc.org
SUMMARY:Bible Study
DESCRIPTION:
URL:https://newmtmoriahmbc.org/event/bible-study-71/
LOCATION:New Mt Moriah MBC\, 5798 Anglewood Lane\, Calera\, AL\, 35040\, United States
ORGANIZER;CN="New Mt Moriah MBC":MAILTO:info@newmtmoriahmbc.org
END:VEVENT
BEGIN:VEVENT
DTSTART;TZID=America/Chicago:20260524T103000
DTEND;TZID=America/Chicago:20260524T103000
DTSTAMP:20260424T032358
CREATED:20250207T015815Z
LAST-MODIFIED:20250207T015815Z
UID:5685-1779618600-1779618600@newmtmoriahmbc.org
SUMMARY:Worship Service
DESCRIPTION:
URL:https://newmtmoriahmbc.org/event/worship-service-295/
LOCATION:New Mt Moriah MBC\, 5798 Anglewood Lane\, Calera\, AL\, 35040\, United States
CATEGORIES:Sunday
ORGANIZER;CN="New Mt Moriah MBC":MAILTO:info@newmtmoriahmbc.org
END:VEVENT
BEGIN:VEVENT
DTSTART;TZID=America/Chicago:20260527T180000
DTEND;TZID=America/Chicago:20260527T180000
DTSTAMP:20260424T032358
CREATED:20250207T030302Z
LAST-MODIFIED:20250207T030302Z
UID:5870-1779904800-1779904800@newmtmoriahmbc.org
SUMMARY:Bible Study
DESCRIPTION:
URL:https://newmtmoriahmbc.org/event/bible-study-72/
LOCATION:New Mt Moriah MBC\, 5798 Anglewood Lane\, Calera\, AL\, 35040\, United States
ORGANIZER;CN="New Mt Moriah MBC":MAILTO:info@newmtmoriahmbc.org
END:VEVENT
BEGIN:VEVENT
DTSTART;TZID=America/Chicago:20260531T103000
DTEND;TZID=America/Chicago:20260531T103000
DTSTAMP:20260424T032358
CREATED:20250207T015815Z
LAST-MODIFIED:20250207T015815Z
UID:5686-1780223400-1780223400@newmtmoriahmbc.org
SUMMARY:Worship Service
DESCRIPTION:
URL:https://newmtmoriahmbc.org/event/worship-service-296/
LOCATION:New Mt Moriah MBC\, 5798 Anglewood Lane\, Calera\, AL\, 35040\, United States
CATEGORIES:Sunday
ORGANIZER;CN="New Mt Moriah MBC":MAILTO:info@newmtmoriahmbc.org
END:VEVENT
END:VCALENDAR